BEGIN:VCALENDAR
VERSION:2.0
PRODID:-//Soldier Creek Winery - ECPv6.15.20//NONSGML v1.0//EN
CALSCALE:GREGORIAN
METHOD:PUBLISH
X-WR-CALNAME:Soldier Creek Winery
X-ORIGINAL-URL:https://www.soldiercreekwinery.com
X-WR-CALDESC:Events for Soldier Creek Winery
REFRESH-INTERVAL;VALUE=DURATION:PT1H
X-Robots-Tag:noindex
X-PUBLISHED-TTL:PT1H
BEGIN:VTIMEZONE
TZID:America/Chicago
BEGIN:DAYLIGHT
TZOFFSETFROM:-0600
TZOFFSETTO:-0500
TZNAME:CDT
DTSTART:20250309T080000
END:DAYLIGHT
BEGIN:STANDARD
TZOFFSETFROM:-0500
TZOFFSETTO:-0600
TZNAME:CST
DTSTART:20251102T070000
END:STANDARD
BEGIN:DAYLIGHT
TZOFFSETFROM:-0600
TZOFFSETTO:-0500
TZNAME:CDT
DTSTART:20260308T080000
END:DAYLIGHT
BEGIN:STANDARD
TZOFFSETFROM:-0500
TZOFFSETTO:-0600
TZNAME:CST
DTSTART:20261101T070000
END:STANDARD
BEGIN:DAYLIGHT
TZOFFSETFROM:-0600
TZOFFSETTO:-0500
TZNAME:CDT
DTSTART:20270314T080000
END:DAYLIGHT
BEGIN:STANDARD
TZOFFSETFROM:-0500
TZOFFSETTO:-0600
TZNAME:CST
DTSTART:20271107T070000
END:STANDARD
END:VTIMEZONE
BEGIN:VEVENT
DTSTART;TZID=America/Chicago:20260327T180000
DTEND;TZID=America/Chicago:20260327T200000
DTSTAMP:20260420T031902
CREATED:20260215T174924Z
LAST-MODIFIED:20260215T174924Z
UID:10001610-1774634400-1774641600@www.soldiercreekwinery.com
SUMMARY:Folk at Vineyard Vibrations: Tom Shadonix
DESCRIPTION:Folk at Vineyard Vibrations with Tom Shadonix is coming to Soldier Creek Winery on Friday\, March 27\, from 6–8 PM\, and you won’t want to miss this magical evening of live music and wine.\nFolk Vineyard Vibrations with Tom Shadonix is coming to Soldier Creek Winery on Friday\, March 27\, from 6–8 PM\, and you won’t want to miss this magical evening of live music and wine. This week’s performance features the incredible talent of Tom Shadonix\, a solo fiddle musician known for his mastery and captivating sound. \nWith every stroke of the bow\, Tom brings stories to life through music. His artistry transforms each note into an experience\, creating melodies that connect deeply with listeners. Folk at Vineyard Vibrations with Tom Shadonix promises to be an evening where emotion and skill come together in unforgettable ways. Whether you are a longtime fan of fiddle music or simply enjoy live performances\, Tom’s set will leave you spellbound. \nThe event is free to attend and open to all. You’ll be able to sip your favorite Soldier Creek wine by the glass or bottle while relaxing in the warm\, welcoming atmosphere of the winery. To make the evening even more enjoyable\, order a Winifred’s Munchies charcuterie box\, or choose from other tasty snacks available for purchase. You are welcome to bring your own food\, but please note that outside beverages\, including non-alcoholic ones\, are not allowed due to our liquor license. \nWeather permitting\, the concert will be held on the lawn\, so bring your own blanket or chair to settle in for a cozy evening under the autumn sky. It’s the perfect way to gather with friends\, enjoy incredible music\, and take in the beauty of the vineyard as the season changes. \nFolk at Vineyard Vibrations with Tom Shadonix is about more than music—it’s about connection\, community\, and creating memories. Mark your calendar for October 10\, bring your crew\, and let the music and wine create a night you’ll always remember. \nCan’t make it to this evening of music? No problem\, check out our full calendar of events here.
URL:https://www.soldiercreekwinery.com/eventcalendar/folk-at-vineyard-vibrations/
LOCATION:Soldier Creek Winery\, 1584 Paragon Ave\, Fort Dodge\, IA\, 50501\, United States
CATEGORIES:Arts,Arts Literature and Culture,Dance,Easy Fun,Live Music,Tastings,Wine & Food
ATTACH;FMTTYPE=image/png:https://www.soldiercreekwinery.com/wp-content/uploads/2026/02/MAR-27.png
END:VEVENT
BEGIN:VEVENT
DTSTART;TZID=America/Chicago:20260329T150000
DTEND;TZID=America/Chicago:20260329T170000
DTSTAMP:20260420T031902
CREATED:20260215T162811Z
LAST-MODIFIED:20260215T162811Z
UID:10001600-1774796400-1774803600@www.soldiercreekwinery.com
SUMMARY:Bingo: Supporting The Lord's Cupboard
DESCRIPTION:Bingo! Bring your friends\, family\, neighbors for a *good cause* and some fun! Select Sundays from 3-5PM. We are partnering with The Lord’s Cupboard\, donate items off of their wish list or cash donation in exchange for bingo cards:\nBingo! Bring your friends\, family\, neighbors for a *good cause* and some fun! Select Sundays from 3-5PM. We are partnering with The Lord’s Cupboard\, donate items off of their wish list or cash donation in exchange for bingo cards: \n\n\nCereal\nCanned Soups\nPork & Beans\nChili Beans\nPasta Noodles (any kind)\nToothpaste\nToothbrushes\nShampoo\nDish Soap\nDeodorant\nBody Wash\nPlastic Sacks (grocery bags)\n\nThere are fabulous wine prizes for winners\, so grab some things off of the wish list and scoot your booty over here! We will play 4 rounds of regular BINGO\, then 1 round of blackout BINGO. Winners of the regular rounds get 1 free glass of wine + a surprise prize. The winner of the blackout round gets a bottle of wine!Mark your calendar!
URL:https://www.soldiercreekwinery.com/eventcalendar/bingo-supporting-the-lords-cupboard-3/
LOCATION:Soldier Creek Winery\, 1584 Paragon Ave\, Fort Dodge\, IA\, 50501\, United States
CATEGORIES:Easy Fun,Fundraisers,Live Music,Wine & Food
ATTACH;FMTTYPE=image/png:https://www.soldiercreekwinery.com/wp-content/uploads/2026/02/BINGO-MAR-MAY-COVER.png
END:VEVENT
BEGIN:VEVENT
DTSTART;TZID=America/Chicago:20260403T180000
DTEND;TZID=America/Chicago:20260403T200000
DTSTAMP:20260420T031902
CREATED:20260312T211019Z
LAST-MODIFIED:20260313T142614Z
UID:10001613-1775239200-1775246400@www.soldiercreekwinery.com
SUMMARY:Americana Music at Vineyard Vibrations: Stadium Dr.
DESCRIPTION:Americana music night arrives at Soldier Creek Winery on April 3 from 6 to 8 PM\, and it is bringing something genuinely special with it. Stadium Dr is a local band with a sound deeply rooted in the tradition of artists like Wilco — layered\, honest\, and full of the kind of musical texture that rewards every listen. Additionally\, there is something uniquely satisfying about discovering a local band that sounds like they were made for a room exactly like this one.\nAmericana music night arrives at Soldier Creek Winery on April 3 from 6 to 8 PM\, and it is bringing something genuinely special with it. Stadium Dr is a local band with a sound deeply rooted in the tradition of artists like Wilco — layered\, honest\, and full of the kind of musical texture that rewards every listen. Additionally\, there is something uniquely satisfying about discovering a local band that sounds like they were made for a room exactly like this one. \nStadium Dr brings a sound that feels both familiar and fresh. Their music carries the unhurried\, storytelling spirit of classic americana\, woven together with the kind of craftsmanship that only comes from musicians who truly love what they play. Consequently\, an evening with Stadium Dr is less like a concert and more like a conversation — one told entirely through song. \nAt Soldier Creek Winery\, live music nights are designed to feel like an experience\, not just an event. Therefore\, we invite you to arrive early\, settle in with a glass of your favorite Soldier Creek wine\, and let the atmosphere do the rest. Americana music night is best enjoyed slowly\, with good company and no reason to rush. \nWhether you are a longtime fan of the americana sound or simply looking for a meaningful way to spend a Thursday evening\, Stadium Dr will give you exactly what you came for. Local talent\, soulful music\, and a winery setting that makes every note sound better — this is what a great night out looks like. \nCome as you are\, bring someone you love\, and stay for the music. \nWhere great wine meets memorable times. \nCan’t make it to this incredible music event? No problem\, check out our full calendar of events here.
URL:https://www.soldiercreekwinery.com/eventcalendar/americana-music-at-vineyard-vibrations-stadium-dr/
LOCATION:IA
CATEGORIES:Arts,Arts Literature and Culture,Dance,Easy Fun,Live Music,Tastings,Wine & Food
ATTACH;FMTTYPE=image/png:https://www.soldiercreekwinery.com/wp-content/uploads/2026/03/APR-3.png
END:VEVENT
BEGIN:VEVENT
DTSTART;TZID=America/Chicago:20260404T140000
DTEND;TZID=America/Chicago:20260404T163000
DTSTAMP:20260420T031902
CREATED:20260215T180454Z
LAST-MODIFIED:20260312T164038Z
UID:10001611-1775311200-1775320200@www.soldiercreekwinery.com
SUMMARY:Adult Easter Egg Hunt!
DESCRIPTION:Adult Easter Egg Hunt at Soldier Creek Winery- you DON’T want to miss this! \nAdult Easter Egg Hunt at Soldier Creek Winery- you DON’T want to miss this! \nForget everything you know about Easter egg hunts—this one is for adults only\, and it’s packed with wine\, prizes\, and unforgettable fun! Join us on April 4 at 2 PM at Soldier Creek Winery for an afternoon filled with excitement\, laughter\, and a little friendly competition.\n\nFor just $15/person\, you’ll get:\n\nYour registration to hunt; prizes in every egg—from free glasses of wine to t-shirts!\nThe chance to find the GOLDEN EGG grand prize: 6 FREE bottles of wine!\nLive music by Stadium Dr. from 2:30–4:30 PM!\nA glass of wine (or drink of your choice) to sip while you hunt!\nThe opportunity to participate in a costume contest—dress as your best Easter Winosaur for a shot at a FREE bottle of wine (your peers will vote for the winner)!\n\nImagine racing through the lawns by the vineyards at the best Adult Easter Egg Hunt\, wine in hand\, searching for eggs filled with incredible prizes. Picture the excitement as you spot that one last egg just before someone else grabs it. Then\, unwind with live music\, enjoy a drink\, and celebrate your wins with friends.\n\nThis is more than just an Adult Easter Egg Hunt—it’s an experience you won’t want to miss. So grab your crew\, get your game face on\, and get ready for an Easter tradition you’ll be talking about all year!\nSpots are limited—sign up now and don’t miss out!\n\nHere are the finer details:\n\nMust be 21+ to participate.\nEgg-straordinary prizes in the eggs\, including: vouchers for tasting flights\, coupons for merchandise\, vouchers for Weinwandertag entry\, vouchers for bottles of wine\, coupons for a glass of wine\, candy\, and 2 GOLDEN EGGS! There’s a prize in every egg!\nYOU MUST PRE-REGISTER to participate!\nThe fee is $15 before March 29th\, after that the prices increases to $20\nLIVE music by Stadium Dr. from 2:30-4:30PM\n\n\nYour fee includes:\n\nregistration for 1 person 21+\none glass of wine\nthe chance to win Sp-egg-tacular prizes!\n\nSIGN UP HERE\n\n**cancellation policy: full refund 7+ before event date\, 50% refund 4-6 days before event date\, no refund 3 days or less to event date.** \n\nCan’t make it to this sp-egg-tacular event? No problem\, check out our full calendar of events here.
URL:https://www.soldiercreekwinery.com/eventcalendar/adult-easter-egg-hunt-2026/
LOCATION:Soldier Creek Winery\, 1584 Paragon Ave\, Fort Dodge\, IA\, 50501\, United States
CATEGORIES:Arts Literature and Culture,Dance,Easy Fun,Live Music,Tastings,Wine & Food
ATTACH;FMTTYPE=image/png:https://www.soldiercreekwinery.com/wp-content/uploads/2026/02/egg-hunt-fb-cover-2025.png
END:VEVENT
BEGIN:VEVENT
DTSTART;TZID=America/Chicago:20260410T180000
DTEND;TZID=America/Chicago:20260410T200000
DTSTAMP:20260420T031902
CREATED:20260312T210228Z
LAST-MODIFIED:20260312T210228Z
UID:10001612-1775844000-1775851200@www.soldiercreekwinery.com
SUMMARY:Country Soul Music at Vineyard Vibrations: Robbie Michael
DESCRIPTION:Country soul music comes to Soldier Creek Winery on April 10 from 6 to 8 PM\, and this is one evening you will not want to miss. With more than two decades of performing experience\, Robbie Michael brings a soulful\, story-driven sound that feels both timeless and deeply personal. Additionally\, his presence on stage carries the kind of warmth that turns a simple night out into something you talk about long after the last song ends.\nCountry soul music comes to Soldier Creek Winery on April 10 from 6 to 8 PM\, and this is one evening you will not want to miss. With more than two decades of performing experience\, Robbie Michael brings a soulful\, story-driven sound that feels both timeless and deeply personal. Additionally\, his presence on stage carries the kind of warmth that turns a simple night out into something you talk about long after the last song ends. \nRooted in the storytelling traditions of Bob Seger\, The Beatles\, and Jim Croce\, Robbie blends powerful melody with emotional honesty in every performance. His sets move through raw feeling and musical craftsmanship in equal measure. Consequently\, guests often find themselves completely drawn in from the very first note. For those who love music that reaches past the surface and settles somewhere deeper\, Robbie Michael delivers exactly that kind of experience. \nRobbie’s career speaks for itself. He has shared the spotlight alongside acts like Florida Georgia Line\, Tanya Tucker\, Bret Michaels\, Diamond Rio\, and Little River Band\, among many others. Meanwhile\, his ability to connect with audiences — whether in an intimate room or before thousands — remains the defining thread of every show he plays. Thousands of performances have only sharpened a gift that was already remarkable to begin with. \nAt Soldier Creek Winery\, the setting matches the soul of the music perfectly. Therefore\, guests are invited to arrive early\, pour a glass of their favorite Soldier Creek wine\, and settle in for a night that truly delivers. Country soul music sounds even better surrounded by good company and a great glass of wine. Whether you are a longtime fan or discovering Robbie for the first time\, this evening promises to be one worth remembering. \nBring a friend\, claim your favorite spot\, and let the music do the rest. Soldier Creek Winery\, where great wine meets memorable times. \nCan’t make it to this Country Soul Music event? No problem\, check out our full calendar of events here.
URL:https://www.soldiercreekwinery.com/eventcalendar/country-soul-music-at-vineyard-vibrations-robbie-michael/
LOCATION:Soldier Creek Winery\, 1584 Paragon Ave\, Fort Dodge\, IA\, 50501\, United States
CATEGORIES:Arts,Crafts and Painting,Dance,Easy Fun,Live Music,Tastings,Wine & Food
ATTACH;FMTTYPE=image/png:https://www.soldiercreekwinery.com/wp-content/uploads/2026/03/APR-10.png
END:VEVENT
BEGIN:VEVENT
DTSTART;TZID=America/Chicago:20260412T150000
DTEND;TZID=America/Chicago:20260412T170000
DTSTAMP:20260420T031902
CREATED:20260215T163009Z
LAST-MODIFIED:20260215T163009Z
UID:10001601-1776006000-1776013200@www.soldiercreekwinery.com
SUMMARY:Bingo: Supporting The Lord's Cupboard
DESCRIPTION:Bingo! Bring your friends\, family\, neighbors for a *good cause* and some fun! Select Sundays from 3-5PM. We are partnering with The Lord’s Cupboard\, donate items off of their wish list or cash donation in exchange for bingo cards:\nBingo! Bring your friends\, family\, neighbors for a *good cause* and some fun! Select Sundays from 3-5PM. We are partnering with The Lord’s Cupboard\, donate items off of their wish list or cash donation in exchange for bingo cards: \n\n\nCereal\nCanned Soups\nPork & Beans\nChili Beans\nPasta Noodles (any kind)\nToothpaste\nToothbrushes\nShampoo\nDish Soap\nDeodorant\nBody Wash\nPlastic Sacks (grocery bags)\n\nThere are fabulous wine prizes for winners\, so grab some things off of the wish list and scoot your booty over here! We will play 4 rounds of regular BINGO\, then 1 round of blackout BINGO. Winners of the regular rounds get 1 free glass of wine + a surprise prize. The winner of the blackout round gets a bottle of wine!Mark your calendar!
URL:https://www.soldiercreekwinery.com/eventcalendar/bingo-supporting-the-lords-cupboard-4/
LOCATION:Soldier Creek Winery\, 1584 Paragon Ave\, Fort Dodge\, IA\, 50501\, United States
CATEGORIES:Easy Fun,Fundraisers,Tastings,Wine & Food
ATTACH;FMTTYPE=image/png:https://www.soldiercreekwinery.com/wp-content/uploads/2026/02/BINGO-MAR-MAY-COVER.png
END:VEVENT
BEGIN:VEVENT
DTSTART;TZID=America/Chicago:20260417T180000
DTEND;TZID=America/Chicago:20260417T200000
DTSTAMP:20260420T031902
CREATED:20260408T193305Z
LAST-MODIFIED:20260408T193305Z
UID:10001615-1776448800-1776456000@www.soldiercreekwinery.com
SUMMARY:Jazz Music at Vineyard Vibrations: The Dirk Quinn Band
DESCRIPTION:Jazz music night comes to Soldier Creek Winery on April 17 from 6 to 8 PM\, and the Dirk Quinn Band is bringing a sound that will fill every corner of the room. This is a traveling jazz band with an incredible\, polished presence — the kind of group that has spent years perfecting the art of making an audience feel something. Additionally\, jazz and wine share a natural chemistry\, and an evening with the Dirk Quinn Band is proof of exactly that.\nJazz music night comes to Soldier Creek Winery on April 17 from 6 to 8 PM\, and the Dirk Quinn Band is bringing a sound that will fill every corner of the room. This is a traveling jazz band with an incredible\, polished presence — the kind of group that has spent years perfecting the art of making an audience feel something. Additionally\, jazz and wine share a natural chemistry\, and an evening with the Dirk Quinn Band is proof of exactly that. \nThe Dirk Quinn Band delivers jazz with depth and intention. Their sound moves fluidly between energy and elegance\, building the kind of atmosphere where conversation flows easily and time slips away without notice. Consequently\, guests often find that the evening ends far too soon. This is music designed to be experienced\, not just heard. \nAt Soldier Creek Winery\, we love bringing artists to our stage who elevate the entire room — and the Dirk Quinn Band does exactly that. Therefore\, we encourage you to arrive early\, choose your wine\, and give yourself permission to fully settle into the evening. Jazz music night is the perfect midweek reset or the ideal date night destination. \nWhether you are a dedicated jazz enthusiast or simply someone who appreciates extraordinary live music\, the Dirk Quinn Band will leave a lasting impression. Their traveling reputation precedes them\, and Fort Dodge is lucky to have them stop here. \nMark your calendar\, bring good company\, and let the music take care of the rest. \nWhere great wine meets memorable times. 🍷 \nCan’t make it to this Country Soul Music event? No problem\, check out our full calendar of events here. \n 
URL:https://www.soldiercreekwinery.com/eventcalendar/jazz-music-dirk-quinn-band-26/
LOCATION:Soldier Creek Winery\, 1584 Paragon Ave\, Fort Dodge\, IA\, 50501\, United States
CATEGORIES:Arts,Crafts and Painting,Dance,Easy Fun,Live Music,Tastings,Wine & Food
ATTACH;FMTTYPE=image/png:https://www.soldiercreekwinery.com/wp-content/uploads/2026/03/APR-17.png
END:VEVENT
BEGIN:VEVENT
DTSTART;TZID=America/Chicago:20260424T180000
DTEND;TZID=America/Chicago:20260424T200000
DTSTAMP:20260420T031902
CREATED:20260408T193851Z
LAST-MODIFIED:20260408T193851Z
UID:10001616-1777053600-1777060800@www.soldiercreekwinery.com
SUMMARY:Rhythm & Roots at Vineyard Vibrations: Lojo Russo
DESCRIPTION:Rhythm and roots music night takes the stage at Soldier Creek Winery on April 24 from 6 to 8 PM\, and Lojo Russo is the artist bringing it to life. Known for her free-spirited blend of acoustic funk\, soulful storytelling\, and deeply expressive performance\, Lojo Russo is unlike anything we have hosted before. Additionally\, her ability to hold a room through nothing more than her voice\, her instrument\, and her presence makes every performance feel genuinely rare.\nRhythm and roots music night takes the stage at Soldier Creek Winery on April 24 from 6 to 8 PM\, and Lojo Russo is the artist bringing it to life. Known for her free-spirited blend of acoustic funk\, soulful storytelling\, and deeply expressive performance\, Lojo Russo is unlike anything we have hosted before. Additionally\, her ability to hold a room through nothing more than her voice\, her instrument\, and her presence makes every performance feel genuinely rare. \nLojo Russo’s sound lives at the intersection of rhythm\, roots\, and raw human connection. Her acoustic funk style is playful and powerful in equal measure\, moving effortlessly between moments of humor\, vulnerability\, and pure musical joy. Consequently\, audiences do not simply watch Lojo perform — they experience her\, and they leave feeling like they witnessed something they will not soon forget. \nAt Soldier Creek Winery\, we believe that the best evenings are the ones that surprise you. Therefore\, we invite you to come with an open heart and a full glass\, and let Lojo Russo take it from there. Rhythm and roots music night is the kind of experience that reminds you why live\, original music is so irreplaceable. \nWhether you are drawn in by the promise of acoustic funk\, soulful storytelling\, or simply a night that offers something different\, Lojo Russo will deliver far beyond expectation. Her artistry is the kind that builds devoted fans out of first-time listeners — and Soldier Creek Winery is proud to be her stage for the evening. \nCome ready to be moved\, surprised\, and thoroughly entertained. \nWhere great wine meets memorable times. 🍷 \nCan’t make it to this Country Soul Music event? No problem\, check out our full calendar of events here. \n 
URL:https://www.soldiercreekwinery.com/eventcalendar/rhythm-and-roots-lojo-russo/
LOCATION:Soldier Creek Winery\, 1584 Paragon Ave\, Fort Dodge\, IA\, 50501\, United States
CATEGORIES:Arts,Crafts and Painting,Dance,Easy Fun,Live Music,Tastings,Wine & Food
ATTACH;FMTTYPE=image/png:https://www.soldiercreekwinery.com/wp-content/uploads/2026/04/APR-24.png
END:VEVENT
BEGIN:VEVENT
DTSTART;TZID=America/Chicago:20260426T150000
DTEND;TZID=America/Chicago:20260426T170000
DTSTAMP:20260420T031902
CREATED:20260215T163311Z
LAST-MODIFIED:20260215T163311Z
UID:10001602-1777215600-1777222800@www.soldiercreekwinery.com
SUMMARY:Bingo: Supporting The Lord's Cupboard
DESCRIPTION:Bingo! Bring your friends\, family\, neighbors for a *good cause* and some fun! Select Sundays from 3-5PM.\n\n\nBingo! Bring your friends\, family\, neighbors for a *good cause* and some fun! Select Sundays from 3-5PM. We are partnering with The Lord’s Cupboard\, donate items off of their wish list or cash donation in exchange for bingo cards: \n\n\nCereal\nCanned Soups\nPork & Beans\nChili Beans\nPasta Noodles (any kind)\nToothpaste\nToothbrushes\nShampoo\nDish Soap\nDeodorant\nBody Wash\nPlastic Sacks (grocery bags)\n\nThere are fabulous wine prizes for winners\, so grab some things off of the wish list and scoot your booty over here! We will play 4 rounds of regular BINGO\, then 1 round of blackout BINGO. Winners of the regular rounds get 1 free glass of wine + a surprise prize. The winner of the blackout round gets a bottle of wine!Mark your calendar!
URL:https://www.soldiercreekwinery.com/eventcalendar/bingo-supporting-the-lords-cupboard-5/
LOCATION:Soldier Creek Winery\, 1584 Paragon Ave\, Fort Dodge\, IA\, 50501\, United States
CATEGORIES:Easy Fun,Fundraisers,Tastings,Wine & Food
ATTACH;FMTTYPE=image/png:https://www.soldiercreekwinery.com/wp-content/uploads/2026/02/BINGO-MAR-MAY-COVER.png
END:VEVENT
BEGIN:VEVENT
DTSTART;TZID=America/Chicago:20260524T150000
DTEND;TZID=America/Chicago:20260524T170000
DTSTAMP:20260420T031902
CREATED:20260215T165519Z
LAST-MODIFIED:20260215T165519Z
UID:10001606-1779634800-1779642000@www.soldiercreekwinery.com
SUMMARY:Bingo: Supporting The Lord's Cupboard
DESCRIPTION:Bingo! Bring your friends\, family\, neighbors for a *good cause* and some fun! Select Sundays from 3-5PM.\n\n\nBingo! Bring your friends\, family\, neighbors for a *good cause* and some fun! Select Sundays from 3-5PM. We are partnering with The Lord’s Cupboard\, donate items off of their wish list or cash donation in exchange for bingo cards: \n\n\nCereal\nCanned Soups\nPork & Beans\nChili Beans\nPasta Noodles (any kind)\nToothpaste\nToothbrushes\nShampoo\nDish Soap\nDeodorant\nBody Wash\nPlastic Sacks (grocery bags)\n\nThere are fabulous wine prizes for winners\, so grab some things off of the wish list and scoot your booty over here! We will play 4 rounds of regular BINGO\, then 1 round of blackout BINGO. Winners of the regular rounds get 1 free glass of wine + a surprise prize. The winner of the blackout round gets a bottle of wine!Mark your calendar!
URL:https://www.soldiercreekwinery.com/eventcalendar/bingo-supporting-the-lords-cupboard-7/
LOCATION:Soldier Creek Winery\, 1584 Paragon Ave\, Fort Dodge\, IA\, 50501\, United States
CATEGORIES:Easy Fun,Fundraisers,Tastings,Wine & Food
ATTACH;FMTTYPE=image/png:https://www.soldiercreekwinery.com/wp-content/uploads/2026/02/BINGO-MAR-MAY-COVER.png
END:VEVENT
END:VCALENDAR