BEGIN:VCALENDAR
VERSION:2.0
PRODID:-//Soldier Creek Winery - ECPv6.15.20//NONSGML v1.0//EN
CALSCALE:GREGORIAN
METHOD:PUBLISH
X-ORIGINAL-URL:https://www.soldiercreekwinery.com
X-WR-CALDESC:Events for Soldier Creek Winery
REFRESH-INTERVAL;VALUE=DURATION:PT1H
X-Robots-Tag:noindex
X-PUBLISHED-TTL:PT1H
BEGIN:VTIMEZONE
TZID:America/Chicago
BEGIN:DAYLIGHT
TZOFFSETFROM:-0600
TZOFFSETTO:-0500
TZNAME:CDT
DTSTART:20250309T080000
END:DAYLIGHT
BEGIN:STANDARD
TZOFFSETFROM:-0500
TZOFFSETTO:-0600
TZNAME:CST
DTSTART:20251102T070000
END:STANDARD
BEGIN:DAYLIGHT
TZOFFSETFROM:-0600
TZOFFSETTO:-0500
TZNAME:CDT
DTSTART:20260308T080000
END:DAYLIGHT
BEGIN:STANDARD
TZOFFSETFROM:-0500
TZOFFSETTO:-0600
TZNAME:CST
DTSTART:20261101T070000
END:STANDARD
BEGIN:DAYLIGHT
TZOFFSETFROM:-0600
TZOFFSETTO:-0500
TZNAME:CDT
DTSTART:20270314T080000
END:DAYLIGHT
BEGIN:STANDARD
TZOFFSETFROM:-0500
TZOFFSETTO:-0600
TZNAME:CST
DTSTART:20271107T070000
END:STANDARD
END:VTIMEZONE
BEGIN:VEVENT
DTSTART;TZID=America/Chicago:20260130T180000
DTEND;TZID=America/Chicago:20260130T200000
DTSTAMP:20260419T082614
CREATED:20251218T190321Z
LAST-MODIFIED:20251218T191048Z
UID:10001589-1769796000-1769803200@www.soldiercreekwinery.com
SUMMARY:Vineyard Vibrations: Neil Anders
DESCRIPTION:Indie Folk Rock comes alive at Soldier Creek Winery on Friday\, January 30\, from 6–8 PM\, bringing a cozy winter evening filled with music\, wine\, and connection.\nIndie Folk Rock comes alive at Soldier Creek Winery on Friday\, January 30\, from 6–8 PM\, bringing a cozy winter evening filled with music\, wine\, and connection. This special Vineyard Vibrations event features Neil Anders\, a Midwest-based artist known for blending rich acoustic textures with driving rock rhythms and introspective lyricism. It’s the perfect night to settle in\, sip something warm\, and enjoy music that resonates. \nNeil Anders fronts Neil Anders & the Brothers Merritt\, a group that has carved out a distinct sound within the regional music scene. His songs combine soulful vocals\, thoughtful lyrics\, and a modern rock edge that appeals to listeners seeking depth and authenticity. Whether you’re a longtime fan or discovering his music for the first time\, it’s easy to appreciate the emotion and craftsmanship behind every performance. \nThe tasting room at Soldier Creek Winery offers an inviting setting for this winter show. Friends can gather\, relax\, and enjoy the performance in a space designed for comfort and conversation. Moreover\, our team will be available to help you explore a curated selection of whites\, reds\, and rosés that pair beautifully with the evening’s sound. \nEnhance your night with Winifred’s Munchies charcuterie boxes\, available throughout the event. Each box includes a thoughtful mix of cheeses\, meats\, and savory extras that complement our handcrafted wines. As you savor each bite\, the music creates a warm backdrop that encourages you to slow down and enjoy the moment. \nIndie Folk Rock thrives in intimate spaces like this\, where storytelling and sound can truly connect with the audience. Additionally\, the relaxed atmosphere makes it easy to come solo\, bring a date\, or gather a group of friends. Arrive early to find a comfortable spot and settle in before the first note. \nMark your calendar for January 30 and join us for an evening that celebrates creativity\, community\, and live music. With heartfelt performances\, great wine\, and a welcoming space\, Indie Folk Rock at Soldier Creek Winery promises a night worth remembering. \nCan’t make it to this event? No problem\, check out our full calendar of events here. \n \n 
URL:https://www.soldiercreekwinery.com/eventcalendar/vineyard-vibrations-neil-anders-january/
LOCATION:Soldier Creek Winery\, 1584 Paragon Ave\, Fort Dodge\, IA\, 50501\, United States
CATEGORIES:Arts,Arts Literature and Culture,Dance,Easy Fun,Live Music,Sales,Tastings,Wine & Food
ATTACH;FMTTYPE=image/png:https://www.soldiercreekwinery.com/wp-content/uploads/2025/12/JAN-30.png
END:VEVENT
BEGIN:VEVENT
DTSTART;TZID=America/Chicago:20260123T180000
DTEND;TZID=America/Chicago:20260123T200000
DTSTAMP:20260419T082614
CREATED:20251218T181133Z
LAST-MODIFIED:20251229T170337Z
UID:10001588-1769191200-1769198400@www.soldiercreekwinery.com
SUMMARY:Vineyard Vibrations: Jared Benson
DESCRIPTION:Country Music at Vineyard Vibrations is back at Soldier Creek Winery on Friday\, January 23rd\, from 6–8 PM\, featuring the talented Jared Benson.\nCountry Music at Vineyard Vibrations is back at Soldier Creek Winery on Friday\, January 23rd\, from 6–8 PM\, featuring the talented Jared Benson. This acoustic solo artist brings a laid-back charm and a voice that perfectly captures the soul of country music. With his smooth guitar melodies and toe-tapping favorites\, Jared sets the stage for an evening filled with good tunes\, great wine\, and unforgettable memories. \nAt Country Music at Vineyard Vibrations\, you’ll experience an easygoing evening that blends music\, conversation\, and community. Jared’s acoustic style offers a refreshing mix of classic country hits and heartfelt originals\, creating the perfect soundtrack for a cozy night out. Whether you’re winding down after a long week or looking for a fun evening with friends\, this event delivers a warm and welcoming atmosphere. \nPair the music with your favorite Soldier Creek wine or tasting flight\, and don’t forget to grab one of our Winifred’s Munchies charcuterie boards. Each board is packed with premium cheeses\, savory meats\, and flavorful accompaniments that elevate every sip. Additionally\, you’re welcome to bring your own snacks\, but outside beverages—including non-alcoholic drinks—are not allowed due to our liquor license. \nThere’s no cover charge\, so it’s easy to make this part of your weekend plans. Invite your friends\, bring your family\, or come solo and meet fellow wine and music lovers. The cozy setting of Soldier Creek Winery\, combined with Jared Benson’s heartfelt performance\, makes this event a must-attend for anyone who loves live music and local flavor. \nMark your calendar for January 23rd and join us for Country Music at Vineyard Vibrations featuring Jared Benson at Soldier Creek Winery. It’s the perfect way to end your week—great wine\, great company\, and great country music. \nCan’t make it to this epic evening of country music? No problem\, check out our full calendar of events here. \n 
URL:https://www.soldiercreekwinery.com/eventcalendar/country-music-jared-benson-2026/
LOCATION:Soldier Creek Winery\, 1584 Paragon Ave\, Fort Dodge\, IA\, 50501\, United States
CATEGORIES:Arts,Arts Literature and Culture,Easy Fun,Live Music,Tastings,Wine & Food
ATTACH;FMTTYPE=image/png:https://www.soldiercreekwinery.com/wp-content/uploads/2025/12/JAN-23-1.png
END:VEVENT
END:VCALENDAR